BEGIN:VCALENDAR
PRODID:-//AT Content Types//AT Event//EN
VERSION:2.0
METHOD:PUBLISH
BEGIN:VEVENT
DTSTAMP:20260424T064237Z
CREATED:20190624T222208Z
UID:ATEvent-f63ab911ebc0a3e92342af9958690840
LAST-MODIFIED:20190624T222320Z
SUMMARY:International Plant Propagators' Society\: 2019 Western Region Annual Conference
DTSTART:20190924T040000Z
DTEND:20190928T040000Z
LOCATION:Santa Cruz\, CA
CATEGORIES:Conference
URL:http://www.ipps.org/event/Regional-Events/2019-Western-Region-Annual-Conference/MXVBJTJCJTJGeGNpbGhoRTNBRzFoWGFOQ2JHb3p0N2ttM3A2Mms1WkNtOFdaOTZkSTA0cEklMkJETTdrelp3UTBrYXJESHNyMGdxM21MUnBNNVJMNG9xcnFyR0ElM0QlM0Q=
CLASS:PUBLIC
END:VEVENT
END:VCALENDAR
